BEGIN:VCALENDAR
VERSION:2.0
PRODID:-//Discover Yosemite National Park - ECPv6.15.15//NONSGML v1.0//EN
CALSCALE:GREGORIAN
METHOD:PUBLISH
X-WR-CALNAME:Discover Yosemite National Park
X-ORIGINAL-URL:https://www.yosemite.com
X-WR-CALDESC:Events for Discover Yosemite National Park
REFRESH-INTERVAL;VALUE=DURATION:PT1H
X-Robots-Tag:noindex
X-PUBLISHED-TTL:PT1H
BEGIN:VTIMEZONE
TZID:America/Los_Angeles
BEGIN:DAYLIGHT
TZOFFSETFROM:-0800
TZOFFSETTO:-0700
TZNAME:PDT
DTSTART:20250309T100000
END:DAYLIGHT
BEGIN:STANDARD
TZOFFSETFROM:-0700
TZOFFSETTO:-0800
TZNAME:PST
DTSTART:20251102T090000
END:STANDARD
BEGIN:DAYLIGHT
TZOFFSETFROM:-0800
TZOFFSETTO:-0700
TZNAME:PDT
DTSTART:20260308T100000
END:DAYLIGHT
BEGIN:STANDARD
TZOFFSETFROM:-0700
TZOFFSETTO:-0800
TZNAME:PST
DTSTART:20261101T090000
END:STANDARD
BEGIN:DAYLIGHT
TZOFFSETFROM:-0800
TZOFFSETTO:-0700
TZNAME:PDT
DTSTART:20270314T100000
END:DAYLIGHT
BEGIN:STANDARD
TZOFFSETFROM:-0700
TZOFFSETTO:-0800
TZNAME:PST
DTSTART:20271107T090000
END:STANDARD
END:VTIMEZONE
BEGIN:VEVENT
DTSTART;VALUE=DATE:20260425
DTEND;VALUE=DATE:20260427
DTSTAMP:20260420T042313
CREATED:20260407T200704Z
LAST-MODIFIED:20260407T200730Z
UID:10001482-1777075200-1777247999@www.yosemite.com
SUMMARY:Yosemite Conservancy Day Hike: Intro to Birding
DESCRIPTION:Join the Yosemite Conservancy enjoying a relaxing spring weekend in Yosemite Valley getting to know some of the park’s diverse bird species. \nSpend Saturday and Sunday morning looking and listening for the many birds that make their year-round or seasonal homes in the park — from swifts and woodpeckers to orioles and blackbirds. Your naturalist guide will lead your group on casual hikes in the Valley\, pointing out the telltale songs and signs of different bird species and the important roles they play in the Yosemite ecosystem. While you’re peeking at beautiful birds with your binoculars and listening for their spring songs\, you might also just enjoy a waterfall or two. \n\n\n\nFor more information and to register click the link below!
URL:https://www.yosemite.com/event/yosemite-conservancy-day-hike-intro-to-birding/
LOCATION:Yosemite Valley
ATTACH;FMTTYPE=image/png:https://www.yosemite.com/wp-content/uploads/2026/04/Screenshot-2026-04-07-at-1.05.33-PM.png
ORGANIZER;CN="Yosemite Conservancy":MAILTO:info@yosemite.org
END:VEVENT
BEGIN:VEVENT
DTSTART;VALUE=DATE:20260515
DTEND;VALUE=DATE:20260518
DTSTAMP:20260420T042313
CREATED:20260413T163324Z
LAST-MODIFIED:20260413T163324Z
UID:10001525-1778803200-1779062399@www.yosemite.com
SUMMARY:Yosemite Conservancy - ART RETREAT: Watercolor with Steve Curl
DESCRIPTION:Photo: Art by Steve Curl via Yosemite Conservancy\nCapture Yosemite’s splendid scenery and seasonal colors as you sharpen your watercolor techniques during this three-day art retreat. \n\n\nJoin professional artist Steve Curl to welcome the fresh blooms and greenery of Yosemite Valley\, while spending a long weekend capturing the park’s seasonal scenery in watercolor! Over the course of three days\, you’ll sharpen your artistic skills as you practice creating a balanced composition\, capturing shifting lights and shadows\, and using layers of color to build a scene. You’ll end the weekend with a fresh perspective on Yosemite\, original artwork to take home\, and a new suite of tips and techniques to draw on as you continue exploring the world of watercolor. \n\nFor more information and to register click the link below!
URL:https://www.yosemite.com/event/yosemite-conservancy-art-retreat-watercolor-with-steve-curl/
LOCATION:Yosemite Valley
ATTACH;FMTTYPE=image/png:https://www.yosemite.com/wp-content/uploads/2026/04/Screenshot-2026-04-13-at-9.31.26-AM.png
ORGANIZER;CN="Yosemite Conservancy":MAILTO:info@yosemite.org
END:VEVENT
BEGIN:VEVENT
DTSTART;TZID=America/Los_Angeles:20260522T140000
DTEND;TZID=America/Los_Angeles:20260522T160000
DTSTAMP:20260420T042313
CREATED:20260413T164225Z
LAST-MODIFIED:20260413T164225Z
UID:10001532-1779458400-1779465600@www.yosemite.com
SUMMARY:Yosemite Conservancy - Stewardship Series: Red-legged Frog Conservation
DESCRIPTION:Spend your Friday afternoon exploring the science and stories shaping Yosemite today. The Yosemite Conservancy Stewardship Series offers a unique opportunity to learn from experts through short\, topic-focused programs inspired by donor-funded projects. Each two-hour session highlights a different area of research\, restoration\, or stewardship — from meadow recovery and sequoia ecology to wildlife conservation and beyond.  \nMeet one of Yosemite’s comeback stories — the California red-legged frog\, a federally threatened species\, and one of three endangered amphibians in the park. Once gone from Yosemite\, these remarkable frogs are now thriving thanks to years of innovative science and collaborative work done by the National Park Service\, funded by YosemiteConservancy donors and other park partners.    \nThe Yosemite National Park aquatic wildlife branch has developed successful reintroduction methods (in collaboration with UC Santa Barbara and the San Francisco Zoo)\, making Yosemite the first place where this species and other endangered amphibians have been restored. Donors at Yosemite Conservancy have been key\, funding research and hands-on restoration that continues to support these efforts.  \nJoin this program to see how science\, creativity\, and conservation are working together to give Yosemite’s amphibians a leap toward a brighter future.  \n\n\n\nFor more information and to register click the link below!
URL:https://www.yosemite.com/event/yosemite-conservancy-stewardship-series-red-legged-frog-conservation/
LOCATION:Yosemite Valley
ATTACH;FMTTYPE=image/png:https://www.yosemite.com/wp-content/uploads/2026/04/Screenshot-2026-04-13-at-9.40.36-AM.png
ORGANIZER;CN="Yosemite Conservancy":MAILTO:info@yosemite.org
END:VEVENT
BEGIN:VEVENT
DTSTART;VALUE=DATE:20260605
DTEND;VALUE=DATE:20260607
DTSTAMP:20260420T042313
CREATED:20260414T162014Z
LAST-MODIFIED:20260414T162014Z
UID:10001546-1780617600-1780790399@www.yosemite.com
SUMMARY:Yosemite Conservancy - Yosemite Field School: Recovering Species
DESCRIPTION:Explore the remarkable comeback stories in Yosemite Valley like the California red-legged frogs and peregrine falcons. \n\n\nYosemite National Park is a place of resilience and renewal. On this two-day program guided by park biologists and a Yosemite Conservancy naturalist\, you’ll explore the remarkable comeback stories of the California red-legged frogs and peregrine falcons. Both species were absent from the park for decades and are now thriving with help from the Yosemite Conservancy\, park biologists\, climbers\, zoos\, and so many others.  Learn what led to the decline of these species and how they are reclaiming their places in the park. \nOn Friday\, after an indoor presentation learning about the amphibians of Yosemite and their decline and recovery story\, we hope to see tadpoles and adult frogs with the help of Rob Grasso\, Yosemite National Park’s aquatic ecologist\, and plan to release frogs into Yosemite Valley with staff from the San Francisco Zoo. On Saturday\, we’ll meet with the park’s raptor surveyor and look at peregrine eyries through spotting scopes. If we are lucky\, we’ll be able to see the peregrines on the cliffs as well. This program offers a rare opportunity to learn firsthand from experts about Yosemite’s recovering species and the hope they represent for our shared natural world.
URL:https://www.yosemite.com/event/yosemite-conservancy-yosemite-field-school-recovering-species/
LOCATION:Yosemite Valley
ATTACH;FMTTYPE=image/png:https://www.yosemite.com/wp-content/uploads/2026/04/Screenshot-2026-04-14-at-9.19.15-AM.png
ORGANIZER;CN="Yosemite Conservancy":MAILTO:info@yosemite.org
END:VEVENT
BEGIN:VEVENT
DTSTART;VALUE=DATE:20260625
DTEND;VALUE=DATE:20260629
DTSTAMP:20260420T042313
CREATED:20260226T181555Z
LAST-MODIFIED:20260302T174949Z
UID:10001008-1782345600-1782691199@www.yosemite.com
SUMMARY:Yosemite Film Festival Storyteller Summit
DESCRIPTION:Films\, stories\, and conversations rooted in climbing\, stewardship\, and Yosemite.\n\n\n\n\n\n\n\n\n\n\n\n\nThe Yosemite Film Festival & Storyteller Summit is an educational and cultural program of the Yosemite Climbing Association. The festival brings together filmmakers\, climbers\, artists\, historians\, and land stewards to share stories connected to Yosemite and public lands. \n\n\n\n\n\n\n\n\nThrough film\, live conversation\, and storytelling\, the festival explores climbing history\, stewardship\, ethics\, and the evolving relationship between people and place. It is designed as a space for learning\, reflection\, and connection\, grounded in respect for Yosemite’s past and responsibility for its future. \nThis gathering reflects YCA’s belief that stories matter. When shared thoughtfully\, they help preserve history\, inspire care for public lands\, and strengthen the communities that love them. \n\n\n\n\n\n\nThe Yosemite Film Festival & Storyteller Summit is a place based gathering shaped by care and intention. Over several days\, films and conversations open space to learn\, reflect\, and engage with Yosemite’s stories in ways that are grounded\, respectful\, and human scaled. \n\n\n\n\n\n\n\n\n\nCurated film screenings focused on climbing\, stewardship\, and public lands\nConversations with filmmakers\, climbers\, historians\, and land stewards\nStorytelling that explores Yosemite’s past\, present\, and future\nEducational programming rooted in ethics\, interpretation\, and care for place\nInformal opportunities to gather\, connect\, and reflect as a community
URL:https://www.yosemite.com/event/yosemite-film-festival-storyteller-summit/
LOCATION:Yosemite Valley
ATTACH;FMTTYPE=image/jpeg:https://www.yosemite.com/wp-content/uploads/2026/02/YosemiteFilmFestival-PhotoCourtesy-Yosemite-Climbing-Association.jpg
ORGANIZER;CN="Yosemite Climbing Association":MAILTO:info@yosemiteclimbing.org
END:VEVENT
END:VCALENDAR