BEGIN:VCALENDAR
VERSION:2.0
PRODID:-//Discover Yosemite National Park - ECPv6.15.15//NONSGML v1.0//EN
CALSCALE:GREGORIAN
METHOD:PUBLISH
X-WR-CALNAME:Discover Yosemite National Park
X-ORIGINAL-URL:https://www.yosemite.com
X-WR-CALDESC:Events for Discover Yosemite National Park
REFRESH-INTERVAL;VALUE=DURATION:PT1H
X-Robots-Tag:noindex
X-PUBLISHED-TTL:PT1H
BEGIN:VTIMEZONE
TZID:America/Los_Angeles
BEGIN:DAYLIGHT
TZOFFSETFROM:-0800
TZOFFSETTO:-0700
TZNAME:PDT
DTSTART:20250309T100000
END:DAYLIGHT
BEGIN:STANDARD
TZOFFSETFROM:-0700
TZOFFSETTO:-0800
TZNAME:PST
DTSTART:20251102T090000
END:STANDARD
BEGIN:DAYLIGHT
TZOFFSETFROM:-0800
TZOFFSETTO:-0700
TZNAME:PDT
DTSTART:20260308T100000
END:DAYLIGHT
BEGIN:STANDARD
TZOFFSETFROM:-0700
TZOFFSETTO:-0800
TZNAME:PST
DTSTART:20261101T090000
END:STANDARD
BEGIN:DAYLIGHT
TZOFFSETFROM:-0800
TZOFFSETTO:-0700
TZNAME:PDT
DTSTART:20270314T100000
END:DAYLIGHT
BEGIN:STANDARD
TZOFFSETFROM:-0700
TZOFFSETTO:-0800
TZNAME:PST
DTSTART:20271107T090000
END:STANDARD
END:VTIMEZONE
BEGIN:VEVENT
DTSTART;VALUE=DATE:20260408
DTEND;VALUE=DATE:20260419
DTSTAMP:20260419T052134
CREATED:20260407T174231Z
LAST-MODIFIED:20260407T201333Z
UID:10001101-1775606400-1776556799@www.yosemite.com
SUMMARY:Yosemite Conservancy - Field Sketching with Fran Calvert
DESCRIPTION:Photo: Art by Fran Calvert via Yosemite Conservancy\nJoin the Yosemite Conservancy exploring spring scenery and watercolor basics in Yosemite Valley in this painting class. \nCurious how to relay the dramatic 3-dimensionality of Yosemite Valley onto a piece of paper? Artist Fran Calvert can show you how! This class will demystify the process of watercolor field sketching and help beginning artists connect to the dynamic landscape of Yosemite. Each student will learn the basics of creating a quick\, efficient “plein air” composition using easy-to-learn tools and techniques. You’ll create a piece of art using simple and time-honored practices associated with watercolor and emerge from the class with a composition that is frame-worthy! \nAs you learn\, you’ll enjoy the serene surroundings of Happy Isles Art & Nature Center in Yosemite Valley\, where forests\, fens\, rivers\, and wildlife will inspire your art. By the time you leave\, you’ll have the skills to sketch and paint wherever your next adventure takes you! So bring your excitement and willingness to learn\, and take home inspiration for watercolor field sketching. \nFor more information and to register click the link below!
URL:https://www.yosemite.com/event/yosemite-conservancy-field-sketching-with-fran-calvert/2026-04-08/
LOCATION:Happy Isles Art and Nature Center\, Shuttle Stop 16 Yosemite Valley\, Yosemite Valley\, CA\, 95389\, United States
ATTACH;FMTTYPE=image/jpeg:https://www.yosemite.com/wp-content/uploads/2026/04/Calvert_1_152092103S.jpg
ORGANIZER;CN="Yosemite Conservancy":MAILTO:info@yosemite.org
END:VEVENT
END:VCALENDAR